BEGIN:VCALENDAR
VERSION:2.0
PRODID:-//The Blockchain Academy - ECPv6.10.2//NONSGML v1.0//EN
CALSCALE:GREGORIAN
METHOD:PUBLISH
X-ORIGINAL-URL:https://theblockchainacademy.com
X-WR-CALDESC:Events for The Blockchain Academy
REFRESH-INTERVAL;VALUE=DURATION:PT1H
X-Robots-Tag:noindex
X-PUBLISHED-TTL:PT1H
BEGIN:VTIMEZONE
TZID:America/Halifax
BEGIN:DAYLIGHT
TZOFFSETFROM:-0400
TZOFFSETTO:-0300
TZNAME:ADT
DTSTART:20250309T060000
END:DAYLIGHT
BEGIN:STANDARD
TZOFFSETFROM:-0300
TZOFFSETTO:-0400
TZNAME:AST
DTSTART:20251102T050000
END:STANDARD
END:VTIMEZONE
BEGIN:VEVENT
DTSTART;TZID=America/Halifax:20251121T110000
DTEND;TZID=America/Halifax:20251121T140000
DTSTAMP:20260423T073014
CREATED:20240209T195937Z
LAST-MODIFIED:20240209T195937Z
UID:7164-1763722800-1763733600@theblockchainacademy.com
SUMMARY:Blockchain Enterprise Strategy Workshop
DESCRIPTION:Friday  |  3 Hours | 11:00 am to 2:00 pm Eastern Time (starting 8:00 am PT / 3:00 pm GMT\nEnterprise Blockchain Strategy Workshop\nThe Enterprise Blockchain Strategy workshop is an instructor-led live online event for those students completing the online self-paced Enterprise Blockchain Strategy course.  The workshop is designed for consultants\, business managers\, entrepreneurs\, and decision-making executives. The introduction of blockchain technology could impact their business and operation models. In addition to understanding this technology’s foundational aspect\, you will see how blockchain technology is changing operational deployment to your benefit. This course brings you up to speed and challenges you to create a working plan to implement blockchain technology into their business strategies. \nBlockchain Enterprise Strategy Workshop Objectives\nUpon successful completion of this workshop and intensive online program\, participants will be able to: \nUnderstand the fundamentals of blockchain\, smart contracts\, and consensus protocols; \nRecognize the difference between public vs. private chains\, and evaluate which type is best suited for enterprise aims; \nRecall and compare various blockchain use cases in different sectors; \nConstruct a strategy to make use of blockchain\nUnderstand the fundamentals of blockchain\, smart contracts\, and consensus protocols; \nRecognize the difference between public vs. private chains\, and evaluate which type is best suited for enterprise aims; \nRecall and compare various blockchain use cases in different sectors; \nConstruct a strategy to make use of blockchain; \n  \nTo attend this Blockchain Enterprise Strategy Workshop\, please consider enrolling in the following Certification Career Tracks. \nCertified Blockchain Project Manager  \nCertified Blockchain Enterprise Advocate  \nCertified Blockchain Enterprise Professional \nCertified Blockchain Legal & Regulatory Professional \nCertified Blockchain Financial Analyst \nCertified Blockchain HealthTech Professional \nCertified Blockchain Insurance Professional \nCertified Blockchain Accounting Professional \nCertified Blockchain Supply Chain Professional \nCertified Blockchain Government Advisor \n  \nReview Web3 Certification Board (W3CB) focus areas and exam competencies.
URL:https://theblockchainacademy.com/event/blockchain-enterprise-strategy-workshop-6/
LOCATION:Untitled
CATEGORIES:Blockchain Enterprise Strategy
ATTACH;FMTTYPE=image/png:https://theblockchainacademy.com/wp-content/uploads/sites/17/2022/12/Blockchain-Enterprise-Strategy-Workshop-Event-Image-1.png
END:VEVENT
END:VCALENDAR