BEGIN:VCALENDAR
VERSION:2.0
PRODID:-//The Blockchain Academy - ECPv6.10.2//NONSGML v1.0//EN
CALSCALE:GREGORIAN
METHOD:PUBLISH
X-ORIGINAL-URL:https://theblockchainacademy.com
X-WR-CALDESC:Events for The Blockchain Academy
REFRESH-INTERVAL;VALUE=DURATION:PT1H
X-Robots-Tag:noindex
X-PUBLISHED-TTL:PT1H
BEGIN:VTIMEZONE
TZID:America/Halifax
BEGIN:DAYLIGHT
TZOFFSETFROM:-0400
TZOFFSETTO:-0300
TZNAME:ADT
DTSTART:20230312T060000
END:DAYLIGHT
BEGIN:STANDARD
TZOFFSETFROM:-0300
TZOFFSETTO:-0400
TZNAME:AST
DTSTART:20231105T050000
END:STANDARD
BEGIN:DAYLIGHT
TZOFFSETFROM:-0400
TZOFFSETTO:-0300
TZNAME:ADT
DTSTART:20240310T060000
END:DAYLIGHT
BEGIN:STANDARD
TZOFFSETFROM:-0300
TZOFFSETTO:-0400
TZNAME:AST
DTSTART:20241103T050000
END:STANDARD
END:VTIMEZONE
BEGIN:VTIMEZONE
TZID:UTC
BEGIN:STANDARD
TZOFFSETFROM:+0000
TZOFFSETTO:+0000
TZNAME:UTC
DTSTART:20230101T000000
END:STANDARD
END:VTIMEZONE
BEGIN:VEVENT
DTSTART;TZID=America/Halifax:20240419T110000
DTEND;TZID=America/Halifax:20240419T140000
DTSTAMP:20260423T160540
CREATED:20230919T200000Z
LAST-MODIFIED:20230919T200000Z
UID:6547-1713524400-1713535200@theblockchainacademy.com
SUMMARY:Hedera Hashgraph Developer Workshop Friday April 19 2023
DESCRIPTION:Hedera Hashgraph Developer Workshop\, April 19\, 2023\nFriday\, April 19\, 2024\n3 Hours\n11:00 AM to 2:00 PM Eastern Time  (starting 8:00 AM PT / 3:00 PM GMT)\nAttend the live online instructor-led Hedera Hashgraph Developer Workshop following the completion of your online self-paced Hedera Hashgraph Developer course. \nHedera is a fully open source\, proof-of-stake\, public network and governing body for building and deploying decentralized applications. It offers developers three primary services: Solidity-based smart contracts\, consensus\, and token services. Hedera is unique in that it is incredibly fast\, energy-efficient (carbon negative)\, and secure. These advantages can be attributed to its underlying hashgraph consensus algorithm.  A Hedera Hashgraph developer course graduate demonstrate the knowledge to develop and maintain client applications using the latest Hedera programming model. This course also introduces you to the Smart Contracts service\, which runs the EVM (Ethereum Virtual Machine). \nWhat it Demonstrates?\nDemonstrate you have the knowledge to develop and maintain client applications and smart contracts. Gain the skills and expertise to build and maintain Hedera applications and Smart Contracts using the latest Hedera programming APIs and development model. A developer must also be able to: \n\nConfigure a development environment with the Hedera APIs and Software Development kits (SDKs).\nDevelop and build Hedera applications using the Hedera SDKs and perform end-to-end application life-cycle\, i.e.\, build and test applications.\nProgram in Java\, JavaScript and other Hedera SDK programming languages.\nAn introduction to the Hedera Smart Contract Service is also including with an introduction to the Solidity programming language for Smart Contract development is the EVM.
URL:https://theblockchainacademy.com/event/hedera-hashgraph-developer-workshop-friday-april-19-2023/
LOCATION:Untitled
CATEGORIES:Hedera Hashgraph Developer
ATTACH;FMTTYPE=image/png:https://theblockchainacademy.com/wp-content/uploads/sites/17/2024/03/Hedera-Hashgraph-Developer-Workshop-Live-Featured-Course-Image.png
END:VEVENT
BEGIN:VEVENT
DTSTART;TZID=America/Halifax:20231019T110000
DTEND;TZID=America/Halifax:20231019T140000
DTSTAMP:20260423T160540
CREATED:20230804T030038Z
LAST-MODIFIED:20230804T030038Z
UID:5750-1697713200-1697724000@theblockchainacademy.com
SUMMARY:Hedera Hashgraph Developer Workshop October 19 2023
DESCRIPTION:Hedera Hashgraph Developer Workshop\nThursday\, October 19\, 2023\n11:00 AM to 2:00 PM Eastern Time  (starting 8:00 AM PT / 3:00 PM GMT)\nAttend the live online instructor-led Hedera Hashgraph Developer Workshop following the completion of your online self-paced Hedera Hashgraph Developer course. \nHedera is a fully open source\, proof-of-stake\, public network and governing body for building and deploying decentralized applications. It offers developers three primary services: Solidity-based smart contracts\, consensus\, and token services. Hedera is unique in that it is incredibly fast\, energy-efficient (carbon negative)\, and secure. These advantages can be attributed to its underlying hashgraph consensus algorithm.  A Hedera Hashgraph developer course graduate demonstrate the knowledge to develop and maintain client applications using the latest Hedera programming model. This course also introduces you to the Smart Contracts service\, which runs the EVM (Ethereum Virtual Machine). \nWhat it Demonstrates?\nDemonstrate you have the knowledge to develop and maintain client applications and smart contracts. Gain the skills and expertise to build and maintain Hedera applications and Smart Contracts using the latest Hedera programming APIs and development model. A developer must also be able to: \n\nConfigure a development environment with the Hedera APIs and Software Development kits (SDKs).\nDevelop and build Hedera applications using the Hedera SDKs and perform end-to-end application life-cycle\, i.e.\, build and test applications.\nProgram in Java\, JavaScript and other Hedera SDK programming languages.\nAn introduction to the Hedera Smart Contract Service is also including with an introduction to the Solidity programming language for Smart Contract development is the EVM.
URL:https://theblockchainacademy.com/event/hedera-hashgraph-developer-workshop-october-19-2023/
LOCATION:Untitled
CATEGORIES:Hedera Hashgraph Developer
ATTACH;FMTTYPE=image/png:https://theblockchainacademy.com/wp-content/uploads/sites/17/2023/08/Live-Online-Workshop-Hedera-Hashgraph-Developer-Product-1-1.png
END:VEVENT
BEGIN:VEVENT
DTSTART;TZID=America/Halifax:20230928T110000
DTEND;TZID=America/Halifax:20230928T140000
DTSTAMP:20260423T160540
CREATED:20230804T030038Z
LAST-MODIFIED:20230804T030038Z
UID:5730-1695898800-1695909600@theblockchainacademy.com
SUMMARY:Hedera Hashgraph Developer Workshop September 28 2023
DESCRIPTION:Hedera Hashgraph Developer Workshop\nThursday\, September 19\, 2023\n11:00 AM to 2:00 PM Eastern Time  (8:00 AM PT / 3:00 PM GMT)\nAttend the live online instructor-led Hedera Hashgraph Developer Workshop following the completion of your online self-paced Hedera Hashgraph Developer course. \nHedera is a fully open source\, proof-of-stake\, public network and governing body for building and deploying decentralized applications. It offers developers three primary services: Solidity-based smart contracts\, consensus\, and token services. Hedera is unique in that it is incredibly fast\, energy-efficient (carbon negative)\, and secure. These advantages can be attributed to its underlying hashgraph consensus algorithm.  A Hedera Hashgraph developer course graduate demonstrate the knowledge to develop and maintain client applications using the latest Hedera programming model. This course also introduces you to the Smart Contracts service\, which runs the EVM (Ethereum Virtual Machine). \nWhat it Demonstrates?\nDemonstrate you have the knowledge to develop and maintain client applications and smart contracts. Gain the skills and expertise to build and maintain Hedera applications and Smart Contracts using the latest Hedera programming APIs and development model. A developer must also be able to: \n\nConfigure a development environment with the Hedera APIs and Software Development kits (SDKs).\nDevelop and build Hedera applications using the Hedera SDKs and perform end-to-end application life-cycle\, i.e.\, build and test applications.\nProgram in Java\, JavaScript and other Hedera SDK programming languages.\nAn introduction to the Hedera Smart Contract Service is also including with an introduction to the Solidity programming language for Smart Contract development is the EVM.
URL:https://theblockchainacademy.com/event/hedera-hashgraph-developer-workshop-september-28-2023/
LOCATION:Untitled
CATEGORIES:Hedera Hashgraph Developer
ATTACH;FMTTYPE=image/png:https://theblockchainacademy.com/wp-content/uploads/sites/17/2023/08/Live-Online-Workshop-Hedera-Hashgraph-Developer-Product-1.png
END:VEVENT
BEGIN:VEVENT
DTSTART;TZID=UTC:20230503T110000
DTEND;TZID=UTC:20230503T160000
DTSTAMP:20260423T160540
CREATED:20230206T212440Z
LAST-MODIFIED:20230206T212440Z
UID:5397-1683111600-1683129600@theblockchainacademy.com
SUMMARY:Hedera Hashgraph Developer Workshop
DESCRIPTION:Hedera Hashgraph Developer Workshop\n \nWelcome to the Live Online Instructor-Led Hedera Hashgraph Developer Workshop designed to accompany and leverage lessons learned in the Certified Hedera Hashgraph Developer Course.  This Workshop will help you gain more experience and achieve better outcomes on the BCA AI-Proctored Exam. \nHands-On Instructor-Led Exercises covering:\n\nTransact HBar\nWallet Testnet Account\nMirronet Queries\nTransaction Setup\nNetwork Consensus\nToken and Query\nHedera Token Service\, Fungible and Non-Fungible Tokens\nHedera Schedule Service\nHedera Consensus Service\n\nYour benefits in attending this Live Instructor-Led Hedera Hashgraph Developer Workshop:\n\nPersonalized Learning – Our experienced instructors tailor approaches and answer your specific questions on a 1:1 basis with small groups of learners.\nImmediate Feedback – If a certain self-paced module is confusing\, too slow\, or too fast\, our instructors can immediately accommodate real-time feedback.\nHands-On Experience – The Certified Hedera Hashgraph Developer course already includes hands-on assignments.  The live workshop builds on this experience in a collaborative instructor-led effort.\nNetworking – You can meet both the instructor and others in your workshop who are building their skillset and network of industry professionals. Dedicated time and space for learning also help you better absorb the information and processes to translate your knowledge into your field of work.\nBlended Learning Lowers Costs and Improves Outcomes – A knowledgeable blockchain instructor’s time and experience are valuable\, making 100% live courses\, either classroom or live online\, somewhat costly and not always aligned with your schedule.  The blended learning approach that the Certified Hedera Hashgraph Developer course\, combined with the live workshop\, offers you the flexibility to learn the self-paced components at your own pace and attend a regularly scheduled Live Workshop held once a month for a 5 intensive value packed instructor-led hours.  Those able to attend have better opportunities to ask questions\, meet a potential partner or employer\, and achieve higher passing scores on the AI-Proctored BCA Certification Exam.\n\nENROLL TODAY:\nThe following include Solidity Smart Contract Workshop (EVM): \n\nCertified Hedera Hashgrap Developer\nCertified Multi-Protocol Developer\n\n  \nTraining Materials\nHEDERA HASHGRAPH TRAINING MATERIALS (PDF) \nTraining materials are required for the following Interactive Exercise Modules: \n\nInteractive Exercise 1 – Module 1 – Lesson 4 – Transact HBar\n\nTraining Materials: Section 1\, page 29: Base Hedera API\n\n\nInteractive Exercise 2 – Module 2 – Lesson 2 – Consensus\n\nTraining Materials: Section 2\, page 38: Proof-of-Stake\n\n\nInteractive Exercise 3 – Module 2 – Lesson 4 – Governing Module Benefit\,\n\nTraining Materials: Section 3\, page 39: Governance Module\n\n\nInteractive Exercise 4 – Module 2 – Lesson 6 – Wallet Testnet Account\n\nTraining Materials: Section 4\, page 40: Hedera Accounts\n\n\nInteractive Exercise 5 – Module 3 – Lesson 2 – Mirronet Queries\n\nTraining Materials: Section 5\, page 41: Mirrornet Queries\n\n\nInteractive Exercise 6 – Module 4 – Lesson 4 – Transaction Setup\n\nTraining Materials – Section 6\, page 42: Transaction Setup\n\n\nInteractive Exercise 7 – Module 5 – Lesson 3 – Network Consensus\n\nTraining Materials: Section 7\, page 47: Network Consensus\n\n\nInteractive Exercise 8 – Module 6 – Lesson 4 – Token and Query\n\nTraining Materials – Section 8\, page 48: Hedera Token Service\, Fungible and Non-Fungible Tokens\n\n\nInteractive Exercise 9 – Module 6 – Lesson 6 – Schedule Service\n\nTraining Materials – Section 9\, page 64: Hedera Schedule Service\n\n\nInteractive Exercise 10 – Module 6 – Lesson 8 – File Service\n\nTraining Materials – Section 10\, page 64: Hedera Schedule Service\n\n\nInteractive Exercise 11 – Module 6 – Lesson 10 – Consensus Service\n\nTraining Materials – Section 11\, page 80 – Hedera Consensus Service\n\n\nAdditional Exercises\n\nTraining Materials – Section 12\, page 90 – Redo exercises with Java Script
URL:https://theblockchainacademy.com/event/hedera-hashgraph-developer-workshop-3/
LOCATION:Untitled
CATEGORIES:Hedera Hashgraph Developer
END:VEVENT
BEGIN:VEVENT
DTSTART;TZID=UTC:20230405T110000
DTEND;TZID=UTC:20230405T160000
DTSTAMP:20260423T160540
CREATED:20230206T212403Z
LAST-MODIFIED:20230209T154911Z
UID:5361-1680692400-1680710400@theblockchainacademy.com
SUMMARY:Hedera Hashgraph Developer Workshop
DESCRIPTION:Hedera Hashgraph Developer Workshop\n \nWelcome to the Live Online Instructor-Led Hedera Hashgraph Developer Workshop designed to accompany and leverage lessons learned in the Certified Hedera Hashgraph Developer Course.  This Workshop will help you gain more experience and achieve better outcomes on the BCA AI-Proctored Exam. \nHands-On Instructor-Led Exercises covering:\n\nTransact HBar\nWallet Testnet Account\nMirronet Queries\nTransaction Setup\nNetwork Consensus\nToken and Query\nHedera Token Service\, Fungible and Non-Fungible Tokens\nHedera Schedule Service\nHedera Consensus Service\n\nYour benefits in attending this Live Instructor-Led Hedera Hashgraph Developer Workshop:\n\nPersonalized Learning – Our experienced instructors tailor approaches and answer your specific questions on a 1:1 basis with small groups of learners.\nImmediate Feedback – If a certain self-paced module is confusing\, too slow\, or too fast\, our instructors can immediately accommodate real-time feedback.\nHands-On Experience – The Certified Hedera Hashgraph Developer course already includes hands-on assignments.  The live workshop builds on this experience in a collaborative instructor-led effort.\nNetworking – You can meet both the instructor and others in your workshop who are building their skillset and network of industry professionals. Dedicated time and space for learning also help you better absorb the information and processes to translate your knowledge into your field of work.\nBlended Learning Lowers Costs and Improves Outcomes – A knowledgeable blockchain instructor’s time and experience are valuable\, making 100% live courses\, either classroom or live online\, somewhat costly and not always aligned with your schedule.  The blended learning approach that the Certified Hedera Hashgraph Developer course\, combined with the live workshop\, offers you the flexibility to learn the self-paced components at your own pace and attend a regularly scheduled Live Workshop held once a month for a 5 intensive value packed instructor-led hours.  Those able to attend have better opportunities to ask questions\, meet a potential partner or employer\, and achieve higher passing scores on the AI-Proctored BCA Certification Exam.\n\nENROLL TODAY:\nThe following include Solidity Smart Contract Workshop (EVM): \n\nCertified Hedera Hashgrap Developer\nCertified Multi-Protocol Developer\n\n\nTraining Materials\nHEDERA HASHGRAPH TRAINING MATERIALS (PDF) \nTraining materials are required for the following Interactive Exercise Modules: \n\nInteractive Exercise 1 – Module 1 – Lesson 4 – Transact HBar\n\nTraining Materials: Section 1\, page 29: Base Hedera API\n\n\nInteractive Exercise 2 – Module 2 – Lesson 2 – Consensus\n\nTraining Materials: Section 2\, page 38: Proof-of-Stake\n\n\nInteractive Exercise 3 – Module 2 – Lesson 4 – Governing Module Benefit\,\n\nTraining Materials: Section 3\, page 39: Governance Module\n\n\nInteractive Exercise 4 – Module 2 – Lesson 6 – Wallet Testnet Account\n\nTraining Materials: Section 4\, page 40: Hedera Accounts\n\n\nInteractive Exercise 5 – Module 3 – Lesson 2 – Mirronet Queries\n\nTraining Materials: Section 5\, page 41: Mirrornet Queries\n\n\nInteractive Exercise 6 – Module 4 – Lesson 4 – Transaction Setup\n\nTraining Materials – Section 6\, page 42: Transaction Setup\n\n\nInteractive Exercise 7 – Module 5 – Lesson 3 – Network Consensus\n\nTraining Materials: Section 7\, page 47: Network Consensus\n\n\nInteractive Exercise 8 – Module 6 – Lesson 4 – Token and Query\n\nTraining Materials – Section 8\, page 48: Hedera Token Service\, Fungible and Non-Fungible Tokens\n\n\nInteractive Exercise 9 – Module 6 – Lesson 6 – Schedule Service\n\nTraining Materials – Section 9\, page 64: Hedera Schedule Service\n\n\nInteractive Exercise 10 – Module 6 – Lesson 8 – File Service\n\nTraining Materials – Section 10\, page 64: Hedera Schedule Service\n\n\nInteractive Exercise 11 – Module 6 – Lesson 10 – Consensus Service\n\nTraining Materials – Section 11\, page 80 – Hedera Consensus Service\n\n\nAdditional Exercises\n\nTraining Materials – Section 12\, page 90 – Redo exercises with Java Script
URL:https://theblockchainacademy.com/event/hedera-hashgraph-developer-workshop-2/
LOCATION:Untitled
CATEGORIES:Hedera Hashgraph Developer
END:VEVENT
BEGIN:VEVENT
DTSTART;TZID=UTC:20230301T110000
DTEND;TZID=UTC:20230301T160000
DTSTAMP:20260423T160540
CREATED:20230206T212416Z
LAST-MODIFIED:20230206T212416Z
UID:5325-1677668400-1677686400@theblockchainacademy.com
SUMMARY:Hedera Hashgraph Developer Workshop
DESCRIPTION:Hedera Hashgraph Developer Workshop\n \nWelcome to the Live Online Instructor-Led Hedera Hashgraph Developer Workshop designed to accompany and leverage lessons learned in the Certified Hedera Hashgraph Developer Course.  This Workshop will help you gain more experience and achieve better outcomes on the BCA AI-Proctored Exam. \nHands-On Instructor-Led Exercises covering:\n\nTransact HBar\nWallet Testnet Account\nMirronet Queries\nTransaction Setup\nNetwork Consensus\nToken and Query\nHedera Token Service\, Fungible and Non-Fungible Tokens\nHedera Schedule Service\nHedera Consensus Service\n\nYour benefits in attending this Live Instructor-Led Hedera Hashgraph Developer Workshop:\n\nPersonalized Learning – Our experienced instructors tailor approaches and answer your specific questions on a 1:1 basis with small groups of learners.\nImmediate Feedback – If a certain self-paced module is confusing\, too slow\, or too fast\, our instructors can immediately accommodate real-time feedback.\nHands-On Experience – The Certified Hedera Hashgraph Developer course already includes hands-on assignments.  The live workshop builds on this experience in a collaborative instructor-led effort.\nNetworking – You can meet both the instructor and others in your workshop who are building their skillset and network of industry professionals. Dedicated time and space for learning also help you better absorb the information and processes to translate your knowledge into your field of work.\nBlended Learning Lowers Costs and Improves Outcomes – A knowledgeable blockchain instructor’s time and experience are valuable\, making 100% live courses\, either classroom or live online\, somewhat costly and not always aligned with your schedule.  The blended learning approach that the Certified Hedera Hashgraph Developer course\, combined with the live workshop\, offers you the flexibility to learn the self-paced components at your own pace and attend a regularly scheduled Live Workshop held once a month for a 5 intensive value packed instructor-led hours.  Those able to attend have better opportunities to ask questions\, meet a potential partner or employer\, and achieve higher passing scores on the AI-Proctored BCA Certification Exam.\n\n  \nTraining Materials\nHEDERA HASHGRAPH TRAINING MATERIALS (PDF) \nTraining materials are required for the following Interactive Exercise Modules: \n\nInteractive Exercise 1 – Module 1 – Lesson 4 – Transact HBar\n\nTraining Materials: Section 1\, page 29: Base Hedera API\n\n\nInteractive Exercise 2 – Module 2 – Lesson 2 – Consensus\n\nTraining Materials: Section 2\, page 38: Proof-of-Stake\n\n\nInteractive Exercise 3 – Module 2 – Lesson 4 – Governing Module Benefit\,\n\nTraining Materials: Section 3\, page 39: Governance Module\n\n\nInteractive Exercise 4 – Module 2 – Lesson 6 – Wallet Testnet Account\n\nTraining Materials: Section 4\, page 40: Hedera Accounts\n\n\nInteractive Exercise 5 – Module 3 – Lesson 2 – Mirronet Queries\n\nTraining Materials: Section 5\, page 41: Mirrornet Queries\n\n\nInteractive Exercise 6 – Module 4 – Lesson 4 – Transaction Setup\n\nTraining Materials – Section 6\, page 42: Transaction Setup\n\n\nInteractive Exercise 7 – Module 5 – Lesson 3 – Network Consensus\n\nTraining Materials: Section 7\, page 47: Network Consensus\n\n\nInteractive Exercise 8 – Module 6 – Lesson 4 – Token and Query\n\nTraining Materials – Section 8\, page 48: Hedera Token Service\, Fungible and Non-Fungible Tokens\n\n\nInteractive Exercise 9 – Module 6 – Lesson 6 – Schedule Service\n\nTraining Materials – Section 9\, page 64: Hedera Schedule Service\n\n\nInteractive Exercise 10 – Module 6 – Lesson 8 – File Service\n\nTraining Materials – Section 10\, page 64: Hedera Schedule Service\n\n\nInteractive Exercise 11 – Module 6 – Lesson 10 – Consensus Service\n\nTraining Materials – Section 11\, page 80 – Hedera Consensus Service\n\n\nAdditional Exercises\n\nTraining Materials – Section 12\, page 90 – Redo exercises with Java Script
URL:https://theblockchainacademy.com/event/hedera-hashgraph-developer-workshop/
LOCATION:Untitled
CATEGORIES:Hedera Hashgraph Developer
END:VEVENT
END:VCALENDAR