BEGIN:VCALENDAR
VERSION:2.0
PRODID:-//The Blockchain Academy - ECPv6.10.2//NONSGML v1.0//EN
CALSCALE:GREGORIAN
METHOD:PUBLISH
X-WR-CALNAME:The Blockchain Academy
X-ORIGINAL-URL:https://theblockchainacademy.com
X-WR-CALDESC:Events for The Blockchain Academy
REFRESH-INTERVAL;VALUE=DURATION:PT1H
X-Robots-Tag:noindex
X-PUBLISHED-TTL:PT1H
BEGIN:VTIMEZONE
TZID:UTC
BEGIN:STANDARD
TZOFFSETFROM:+0000
TZOFFSETTO:+0000
TZNAME:UTC
DTSTART:20250101T000000
END:STANDARD
END:VTIMEZONE
BEGIN:VEVENT
DTSTART;TZID=UTC:20251008T110000
DTEND;TZID=UTC:20251008T140000
DTSTAMP:20260423T163249
CREATED:20250313T200027Z
LAST-MODIFIED:20250313T200027Z
UID:7195-1759921200-1759932000@theblockchainacademy.com
SUMMARY:Journey Through AI: From Origins to Future Frontiers
DESCRIPTION:Journey Through AI: From Origins to Future Frontiers\nWednesday | 3 Hours | 11:00 am to 2:00 pm EST \nEmbark on a fascinating exploration of AI’s past\, present\, and future in the Journey Through AI Workshop. This immersive session takes participants through the conceptual origins of AI\, groundbreaking advancements in machine learning\, and the ethical considerations shaping its future. Designed for enthusiasts and professionals alike\, this workshop blends historical insights with real-world applications to provide a well-rounded understanding of AI’s transformative power across industries. \nWho Is Journey Through AI For?\nThe Journey Through Artificial Intelligence workshop is ideal for: \n\nTechnology Enthusiasts eager to explore AI’s evolution and emerging trends.\nBusiness Leaders and Industry Professionals looking to understand AI’s role in shaping the future of work.\nStudents and Researchers interested in the history and ethical implications of AI.\nEthicists and Policymakers seeking insights into responsible AI governance.\n\nCareer Prospects\nBy understanding the evolution and trajectory of AI\, you can: \n\nGain a competitive edge in AI-driven industries\, from finance and healthcare to automation and cybersecurity.\nNavigate the ethical landscape of AI to ensure responsible development and deployment.\nLeverage AI knowledge to enhance problem-solving\, decision-making\, and strategic planning in your field.\n\nLearner Outcomes\nParticipants will: \n\nTrace AI’s development from the early conceptual foundations to modern machine learning breakthroughs.\nIdentify key milestones\, including the Dartmouth Conference\, the rise of neural networks\, and deep learning advancements.\nAnalyze AI’s impact across industries\, including automation\, healthcare\, and emerging technologies like blockchain.\nExamine ethical concerns related to AI\, including bias\, transparency\, and data privacy.\nDiscuss future trends in AI\, including quantum computing and general artificial intelligence (AGI).\n\nStart Your Journey Today!\nExplore the technological milestones\, ethical challenges\, and future innovations of artificial intelligence. Gain the insights needed to stay ahead in an AI-driven world. Reserve your spot now and be part of the conversation shaping the future of AI.
URL:https://theblockchainacademy.com/event/journey-through-ai-from-origins-to-future-frontiers-3/
CATEGORIES:Journey Through AI
ATTACH;FMTTYPE=image/png:https://theblockchainacademy.com/wp-content/uploads/sites/17/2025/02/Journey-Through-AI.png
END:VEVENT
END:VCALENDAR