BEGIN:VCALENDAR
VERSION:2.0
PRODID:-//The Blockchain Academy - ECPv6.10.2//NONSGML v1.0//EN
CALSCALE:GREGORIAN
METHOD:PUBLISH
X-WR-CALNAME:The Blockchain Academy
X-ORIGINAL-URL:https://theblockchainacademy.com
X-WR-CALDESC:Events for The Blockchain Academy
REFRESH-INTERVAL;VALUE=DURATION:PT1H
X-Robots-Tag:noindex
X-PUBLISHED-TTL:PT1H
BEGIN:VTIMEZONE
TZID:America/Halifax
BEGIN:DAYLIGHT
TZOFFSETFROM:-0400
TZOFFSETTO:-0300
TZNAME:ADT
DTSTART:20250309T060000
END:DAYLIGHT
BEGIN:STANDARD
TZOFFSETFROM:-0300
TZOFFSETTO:-0400
TZNAME:AST
DTSTART:20251102T050000
END:STANDARD
END:VTIMEZONE
BEGIN:VEVENT
DTSTART;TZID=America/Halifax:20251219T130000
DTEND;TZID=America/Halifax:20251219T140000
DTSTAMP:20260423T000120
CREATED:20241005T014224Z
LAST-MODIFIED:20241005T014224Z
UID:7087-1766149200-1766152800@theblockchainacademy.com
SUMMARY:Instructor AMA
DESCRIPTION:Tuesday |  1 Hour |  1:00-2:00 PM EST (10:00 AM PT\, 5:00 PM GMT)\nAttend LIVE to learn directly from subject matter experts.\nImmerse yourself in our live Web3 AMA Session\, guided by our seasoned instructor. This platform allows you to not only pose your Blockchain-related questions but also learn in a collaborative environment and simultaneously broaden your professional network. \nOur knowledgeable subject matter experts stand ready to provide answers. However\, keep in mind that the charm of Blockchain rests in the quest for consensus\, true to its moniker\, the “truth machine”. Occasionally\, you might find some queries that lack a universally accepted answer\, a scenario that echoes the very spirit of Blockchain. \nWhat is Web3? \nWeb3\, also known as Web 3.0\, symbolizes the next evolution of the internet. It capitalizes on blockchain technology to foster a decentralized and intelligent web\, thereby diminishing the reliance on centralized data storage and promoting more direct peer-to-peer interactions. \nWhat is blockchain technology? \nBlockchain\, a distinct type of distributed ledger technology (DLT)\, records data across various systems in a secure\, transparent\, and unalterable manner. While it forms the foundation for cryptocurrencies like Bitcoin and Ethereum\, it harbors potential applications that extend well beyond the realm of digital currency. \nWhat is AI (Artificial Intelligence)? \nAI mimics human intelligence in machines\, programmed to replicate human thought patterns and actions. AI technology possesses the capability to learn and solve problems\, and it finds usage across a vast spectrum of contexts\, from recommendation systems to autonomous vehicles. \nHow does blockchain work? \nIn essence\, blockchain operates by logging information in a series of blocks. Each of these blocks houses data\, its own hash\, and the hash of the preceding block. This design renders the blockchain impervious to modifications\, as any change in a block necessitates alterations in all subsequent blocks. \nWhat are smart contracts? \nSmart contracts\, in essence\, are self-fulfilling contracts with the agreement’s stipulations directly encoded into the code. They function on the blockchain\, guaranteeing public storage and immutability. Upon the fulfillment of pre-set conditions\, smart contracts autonomously trigger transactions. \nHow is AI used in blockchain? \nAI finds utility in blockchain for an array of purposes. It augments security through anomaly detection\, boosts scalability via intelligent optimization\, and refines decision-making processes by leveraging machine learning algorithms. \nWhat are the benefits of Web3? \nWeb3 confers numerous benefits\, which include enhanced privacy\, diminished dependence on centralized platforms\, peer-to-peer interactions\, and the privilege to own and monetize personal data. \nWhat is a DAO (Decentralized Autonomous Organization)? \nA DAO is an organization governed by rules encoded as a computer program\, offering transparency\, member control\, and immunity from central government interference. DAOs are essentially a product of blockchain technology. \nHow are NFTs (Non-Fungible Tokens) related to blockchain? \nNFTs\, a unique type of digital asset\, utilize blockchain technology to establish ownership and authenticity of distinctive items or pieces of content. Every NFT possesses a digital signature that sets it apart from other tokens. \nWhat are DApps (Decentralized Applications)? \nDApps operate as applications on a P2P computer network\, rather than on a singular computer. Similar to web apps\, DApps employ languages like HTML for frontend creation. However\, they use smart contracts on the blockchain for their backend. \nReview all upcoming events. \nReview Certification Focus Areas and Exam Competencies from the Web3 Certification Board.
URL:https://theblockchainacademy.com/event/instructor-ama/
LOCATION:Untitled
CATEGORIES:TBA Instructor AMA
ATTACH;FMTTYPE=image/png:https://theblockchainacademy.com/wp-content/uploads/sites/17/2024/02/AMA-Registration-Ask-Me-Anything-Web3-Instructor.png
END:VEVENT
END:VCALENDAR